BEGIN:VCALENDAR
VERSION:2.0
PRODID:spatie/icalendar-generator
DESCRIPTION:Events from Tulalip Lushootseed
X-WR-CALDESC:Events from Tulalip Lushootseed
REFRESH-INTERVAL;VALUE=DURATION:PT1440M
X-PUBLISHED-TTL:PT1440M
BEGIN:VTIMEZONE
TZID:America/Los_Angeles
BEGIN:STANDARD
DTSTART:20261101T020000Z
TZOFFSETFROM:-0700
TZOFFSETTO:-0800
END:STANDARD
BEGIN:DAYLIGHT
DTSTART:20270314T020000Z
TZOFFSETFROM:-0800
TZOFFSETTO:-0700
END:DAYLIGHT
END:VTIMEZONE
BEGIN:VTIMEZONE
TZID:UTC
BEGIN:STANDARD
DTSTART:20250728T091136Z
TZOFFSETFROM:+0000
TZOFFSETTO:+0000
END:STANDARD
END:VTIMEZONE
BEGIN:VEVENT
UID:985-41
DTSTAMP:20260424T091136Z
SUMMARY:pədx̌aʔx̌aʔ-Christmas Day
LOCATION:
ORGANIZER;CN=David:MAILTO:TulalipLushootseed@tulaliptribes-nsn.gov
RRULE:FREQ=YEARLY;BYMONTH=12;BYDAY=25;UNTIL=20271225T000000Z
DTSTART;TZID=America/Los_Angeles;VALUE=DATE:20261225
DTEND;TZID=America/Los_Angeles;VALUE=DATE:20261226
X-ALT-DESC;FMTTYPE=TEXT/HTML:pədx̌aʔx̌aʔ-Christmas day xʷiʔ kʷi gʷ
 əsʔahčəɬ - Tribal Offices Closed
CATEGORIES:Closure
URL;VALUE=URI:https://tulaliplushootseed.com/mc-events/p%c9%99dxa%ca%94xa%c
 a%94-christmas-day/?mc_id=985
METHOD:PUBLISH
END:VEVENT
END:VCALENDAR