BEGIN:VCALENDAR
VERSION:2.0
PRODID:spatie/icalendar-generator
DESCRIPTION:Events from Tulalip Lushootseed
X-WR-CALDESC:Events from Tulalip Lushootseed
REFRESH-INTERVAL;VALUE=DURATION:PT1440M
X-PUBLISHED-TTL:PT1440M
BEGIN:VTIMEZONE
TZID:America/Los_Angeles
BEGIN:DAYLIGHT
DTSTART:20290311T020000Z
TZOFFSETFROM:-0800
TZOFFSETTO:-0700
END:DAYLIGHT
BEGIN:STANDARD
DTSTART:20291104T020000Z
TZOFFSETFROM:-0700
TZOFFSETTO:-0800
END:STANDARD
BEGIN:DAYLIGHT
DTSTART:20300310T020000Z
TZOFFSETFROM:-0800
TZOFFSETTO:-0700
END:DAYLIGHT
END:VTIMEZONE
BEGIN:VTIMEZONE
TZID:UTC
BEGIN:STANDARD
DTSTART:20250727T142158Z
TZOFFSETFROM:+0000
TZOFFSETTO:+0000
END:STANDARD
END:VTIMEZONE
BEGIN:VEVENT
UID:2385-375
DTSTAMP:20260423T142158Z
SUMMARY:skayuʔəɬdat - Halloween
LOCATION:
ORGANIZER;CN=David:MAILTO:TulalipLushootseed@tulaliptribes-nsn.gov
RRULE:FREQ=YEARLY;BYMONTH=10;BYDAY=31;UNTIL=20341031T000000Z
DTSTART;TZID=America/Los_Angeles;VALUE=DATE:20291031
DTEND;TZID=America/Los_Angeles;VALUE=DATE:20291101
X-ALT-DESC;FMTTYPE=TEXT/HTML:skayuʔəɬdat - Halloween [audio mp3=\"/wp-co
 ntent/uploads/2022/12/Halloween.mp3\"][/audio]
CATEGORIES:holidays
URL;VALUE=URI:https://tulaliplushootseed.com/mc-events/skayu%ca%94%c9%99%c9
 %acdat-halloween-2/?mc_id=2385
METHOD:PUBLISH
END:VEVENT
END:VCALENDAR