BEGIN:VCALENDAR
VERSION:2.0
PRODID:spatie/icalendar-generator
DESCRIPTION:Events from Tulalip Lushootseed
X-WR-CALDESC:Events from Tulalip Lushootseed
REFRESH-INTERVAL;VALUE=DURATION:PT1440M
X-PUBLISHED-TTL:PT1440M
BEGIN:VTIMEZONE
TZID:America/Los_Angeles
BEGIN:STANDARD
DTSTART:20281105T020000Z
TZOFFSETFROM:-0700
TZOFFSETTO:-0800
END:STANDARD
BEGIN:DAYLIGHT
DTSTART:20290311T020000Z
TZOFFSETFROM:-0800
TZOFFSETTO:-0700
END:DAYLIGHT
END:VTIMEZONE
BEGIN:VTIMEZONE
TZID:UTC
BEGIN:STANDARD
DTSTART:20250728T024204Z
TZOFFSETFROM:+0000
TZOFFSETTO:+0000
END:STANDARD
END:VTIMEZONE
BEGIN:VEVENT
UID:2347-109
DTSTAMP:20260424T024204Z
SUMMARY:haʔɬ sx̌aƛ̕txʷəɬdat - Valentines Day
LOCATION:
ORGANIZER;CN=David:MAILTO:TulalipLushootseed@tulaliptribes-nsn.gov
RRULE:FREQ=YEARLY;BYMONTH=02;BYDAY=14;UNTIL=20330214T000000Z
DTSTART;TZID=America/Los_Angeles;VALUE=DATE:20290214
DTEND;TZID=America/Los_Angeles;VALUE=DATE:20290215
X-ALT-DESC;FMTTYPE=TEXT/HTML:
CATEGORIES:holidays
URL;VALUE=URI:https://tulaliplushootseed.com/mc-events/ha%ca%94%c9%ac-sxa%c
 6%9b%cc%95tx%ca%b7%c9%99%c9%acdat-valentines-day-2/?mc_id=2347
METHOD:PUBLISH
END:VEVENT
END:VCALENDAR