BEGIN:VCALENDAR
VERSION:2.0
PRODID:spatie/icalendar-generator
DESCRIPTION:Events from Tulalip Lushootseed
X-WR-CALDESC:Events from Tulalip Lushootseed
REFRESH-INTERVAL;VALUE=DURATION:PT1440M
X-PUBLISHED-TTL:PT1440M
BEGIN:VTIMEZONE
TZID:America/Los_Angeles
BEGIN:DAYLIGHT
DTSTART:20280312T020000Z
TZOFFSETFROM:-0800
TZOFFSETTO:-0700
END:DAYLIGHT
BEGIN:STANDARD
DTSTART:20281105T020000Z
TZOFFSETFROM:-0700
TZOFFSETTO:-0800
END:STANDARD
BEGIN:DAYLIGHT
DTSTART:20290311T020000Z
TZOFFSETFROM:-0800
TZOFFSETTO:-0700
END:DAYLIGHT
END:VTIMEZONE
BEGIN:VTIMEZONE
TZID:UTC
BEGIN:STANDARD
DTSTART:20250727T130647Z
TZOFFSETFROM:+0000
TZOFFSETTO:+0000
END:STANDARD
END:VTIMEZONE
BEGIN:VEVENT
UID:2081-284
DTSTAMP:20260423T130647Z
SUMMARY:ʔaciɬtalbixʷ tiʔəʔ sləx̌il Indigenous Peoples’ Day
LOCATION:Tulalip Adminsitration Building 6406 Marine Drive  Tulalip WA 9827
 1
ORGANIZER;CN=David:MAILTO:TulalipLushootseed@tulaliptribes-nsn.gov
RRULE:FREQ=YEARLY;BYMONTH=10;BYDAY=09;UNTIL=20321008T000000Z
DTSTART;TZID=America/Los_Angeles;VALUE=DATE:20281009
DTEND;TZID=America/Los_Angeles;VALUE=DATE:20281010
X-ALT-DESC;FMTTYPE=TEXT/HTML:ʔaciɬtalbixʷ tiʔəʔ sləx̌il - Indigenou
 s Peoples’ Day [audio mp3=\"/wp-content/uploads/2022/12/Indigenous_Peopl
 es_Day.mp3\"][/audio]
CATEGORIES:Closure
URL;VALUE=URI:https://tulaliplushootseed.com/mc-events/%ca%94aci%c9%actalbi
 x%ca%b7-ti%ca%94%c9%99%ca%94-sl%c9%99xil-indigenous-peoples-day/?mc_id=208
 1
METHOD:PUBLISH
END:VEVENT
END:VCALENDAR