BEGIN:VCALENDAR
VERSION:2.0
PRODID:spatie/icalendar-generator
DESCRIPTION:Events from Tulalip Lushootseed
X-WR-CALDESC:Events from Tulalip Lushootseed
REFRESH-INTERVAL;VALUE=DURATION:PT1440M
X-PUBLISHED-TTL:PT1440M
BEGIN:VTIMEZONE
TZID:America/Los_Angeles
BEGIN:STANDARD
DTSTART:20291104T020000Z
TZOFFSETFROM:-0700
TZOFFSETTO:-0800
END:STANDARD
BEGIN:DAYLIGHT
DTSTART:20300310T020000Z
TZOFFSETFROM:-0800
TZOFFSETTO:-0700
END:DAYLIGHT
BEGIN:STANDARD
DTSTART:20301103T020000Z
TZOFFSETFROM:-0700
TZOFFSETTO:-0800
END:STANDARD
END:VTIMEZONE
BEGIN:VTIMEZONE
TZID:UTC
BEGIN:STANDARD
DTSTART:20250727T091237Z
TZOFFSETFROM:+0000
TZOFFSETTO:+0000
END:STANDARD
END:VTIMEZONE
BEGIN:VEVENT
UID:2073-283
DTSTAMP:20260423T091237Z
SUMMARY:Juneteenth ʔulub ʔi ti x̌ʷəl ʔə ti pədstəgʷad
LOCATION:Tulalip Adminsitration Building 6406 Marine Drive  Tulalip WA 9827
 1
ORGANIZER;CN=David:MAILTO:TulalipLushootseed@tulaliptribes-nsn.gov
RRULE:FREQ=YEARLY;BYMONTH=06;BYDAY=19;UNTIL=20320619T000000Z
DTSTART;TZID=America/Los_Angeles;VALUE=DATE:20300619
DTEND;TZID=America/Los_Angeles;VALUE=DATE:20300620
X-ALT-DESC;FMTTYPE=TEXT/HTML:Juneteenth ʔulub ʔi ti x̌ʷəl ʔə ti pəd
 stəgʷad
CATEGORIES:Closure
URL;VALUE=URI:https://tulaliplushootseed.com/mc-events/juneteenth-%ca%94ulu
 b-%ca%94i-ti-x%ca%b7%c9%99l-%ca%94%c9%99-ti-p%c9%99dst%c9%99g%ca%b7ad/?mc_
 id=2073
METHOD:PUBLISH
END:VEVENT
END:VCALENDAR