BEGIN:VCALENDAR
VERSION:2.0
PRODID:spatie/icalendar-generator
DESCRIPTION:Events from Tulalip Lushootseed
X-WR-CALDESC:Events from Tulalip Lushootseed
REFRESH-INTERVAL;VALUE=DURATION:PT1440M
X-PUBLISHED-TTL:PT1440M
BEGIN:VTIMEZONE
TZID:America/Los_Angeles
BEGIN:STANDARD
DTSTART:20281105T020000Z
TZOFFSETFROM:-0700
TZOFFSETTO:-0800
END:STANDARD
BEGIN:DAYLIGHT
DTSTART:20290311T020000Z
TZOFFSETFROM:-0800
TZOFFSETTO:-0700
END:DAYLIGHT
BEGIN:STANDARD
DTSTART:20291104T020000Z
TZOFFSETFROM:-0700
TZOFFSETTO:-0800
END:STANDARD
END:VTIMEZONE
BEGIN:VTIMEZONE
TZID:UTC
BEGIN:STANDARD
DTSTART:20250727T102125Z
TZOFFSETFROM:+0000
TZOFFSETTO:+0000
END:STANDARD
END:VTIMEZONE
BEGIN:VEVENT
UID:2028-250
DTSTAMP:20260423T102125Z
SUMMARY:Flag Day
LOCATION:
ORGANIZER;CN=David:MAILTO:TulalipLushootseed@tulaliptribes-nsn.gov
RRULE:FREQ=YEARLY;BYMONTH=06;BYDAY=14;UNTIL=20310614T000000Z
DTSTART;TZID=America/Los_Angeles;VALUE=DATE:20290614
DTEND;TZID=America/Los_Angeles;VALUE=DATE:20290615
X-ALT-DESC;FMTTYPE=TEXT/HTML:Flag Day
CATEGORIES:holidays
URL;VALUE=URI:https://tulaliplushootseed.com/mc-events/flag-day-5/?mc_id=20
 28
METHOD:PUBLISH
END:VEVENT
END:VCALENDAR