BEGIN:VCALENDAR
VERSION:2.0
PRODID:spatie/icalendar-generator
DESCRIPTION:Events from Tulalip Lushootseed
X-WR-CALDESC:Events from Tulalip Lushootseed
REFRESH-INTERVAL;VALUE=DURATION:PT1440M
X-PUBLISHED-TTL:PT1440M
BEGIN:VTIMEZONE
TZID:America/Los_Angeles
BEGIN:STANDARD
DTSTART:20261101T020000Z
TZOFFSETFROM:-0700
TZOFFSETTO:-0800
END:STANDARD
BEGIN:DAYLIGHT
DTSTART:20270314T020000Z
TZOFFSETFROM:-0800
TZOFFSETTO:-0700
END:DAYLIGHT
END:VTIMEZONE
BEGIN:VTIMEZONE
TZID:UTC
BEGIN:STANDARD
DTSTART:20250727T235045Z
TZOFFSETFROM:+0000
TZOFFSETTO:+0000
END:STANDARD
END:VTIMEZONE
BEGIN:VEVENT
UID:1957-232
DTSTAMP:20260423T235045Z
SUMMARY:President's Day
LOCATION:Tulalip Adminsitration Building 6406 Marine Drive  Tulalip WA 9827
 1
ORGANIZER;CN=David:MAILTO:TulalipLushootseed@tulaliptribes-nsn.gov
RRULE:FREQ=YEARLY;BYMONTH=02;BYDAY=21;UNTIL=20720221T000000Z
DTSTART;TZID=America/Los_Angeles;VALUE=DATE:20270221
DTEND;TZID=America/Los_Angeles;VALUE=DATE:20270222
X-ALT-DESC;FMTTYPE=TEXT/HTML:xʷiʔ kʷi gʷəsʔahčəɬ. - Tribal offices
  closed.
CATEGORIES:Closure
URL;VALUE=URI:https://tulaliplushootseed.com/mc-events/presidents-day-6/?mc
 _id=1957
METHOD:PUBLISH
END:VEVENT
END:VCALENDAR