BEGIN:VCALENDAR
VERSION:2.0
PRODID:spatie/icalendar-generator
DESCRIPTION:Events from Tulalip Lushootseed
X-WR-CALDESC:Events from Tulalip Lushootseed
REFRESH-INTERVAL;VALUE=DURATION:PT1440M
X-PUBLISHED-TTL:PT1440M
BEGIN:VTIMEZONE
TZID:America/Los_Angeles
BEGIN:STANDARD
DTSTART:20301103T020000Z
TZOFFSETFROM:-0700
TZOFFSETTO:-0800
END:STANDARD
BEGIN:DAYLIGHT
DTSTART:20310309T020000Z
TZOFFSETFROM:-0800
TZOFFSETTO:-0700
END:DAYLIGHT
END:VTIMEZONE
BEGIN:VTIMEZONE
TZID:UTC
BEGIN:STANDARD
DTSTART:20250727T183159Z
TZOFFSETFROM:+0000
TZOFFSETTO:+0000
END:STANDARD
END:VTIMEZONE
BEGIN:VEVENT
UID:1939-221
DTSTAMP:20260423T183159Z
SUMMARY:Pearl Harbor Remembrance Day
LOCATION:
ORGANIZER;CN=David:MAILTO:TulalipLushootseed@tulaliptribes-nsn.gov
RRULE:FREQ=YEARLY;BYMONTH=12;BYDAY=07;UNTIL=20311207T000000Z
DTSTART;TZID=America/Los_Angeles;VALUE=DATE:20301207
DTEND;TZID=America/Los_Angeles;VALUE=DATE:20301208
X-ALT-DESC;FMTTYPE=TEXT/HTML:Pearl Harbor Remembrance Day
CATEGORIES:General
URL;VALUE=URI:https://tulaliplushootseed.com/mc-events/pearl-harbor-remembr
 ance-day-2/?mc_id=1939
METHOD:PUBLISH
END:VEVENT
END:VCALENDAR