BEGIN:VCALENDAR
VERSION:2.0
PRODID:spatie/icalendar-generator
DESCRIPTION:Events from Tulalip Lushootseed
X-WR-CALDESC:Events from Tulalip Lushootseed
REFRESH-INTERVAL;VALUE=DURATION:PT1440M
X-PUBLISHED-TTL:PT1440M
BEGIN:VTIMEZONE
TZID:America/Los_Angeles
BEGIN:STANDARD
DTSTART:20261101T020000Z
TZOFFSETFROM:-0700
TZOFFSETTO:-0800
END:STANDARD
BEGIN:DAYLIGHT
DTSTART:20270314T020000Z
TZOFFSETFROM:-0800
TZOFFSETTO:-0700
END:DAYLIGHT
BEGIN:STANDARD
DTSTART:20271107T020000Z
TZOFFSETFROM:-0700
TZOFFSETTO:-0800
END:STANDARD
END:VTIMEZONE
BEGIN:VTIMEZONE
TZID:UTC
BEGIN:STANDARD
DTSTART:20250727T102447Z
TZOFFSETFROM:+0000
TZOFFSETTO:+0000
END:STANDARD
END:VTIMEZONE
BEGIN:VEVENT
UID:1870-7
DTSTAMP:20260423T102447Z
SUMMARY:Hibulb Free Day!
LOCATION:Hibulb Cultural Center 6410 23rd Avenue NE  Tulalip WA 98271
ORGANIZER;CN=David:MAILTO:TulalipLushootseed@tulaliptribes-nsn.gov
RRULE:FREQ=MONTHLY;BYDAY=1TH;UNTIL=20310501T000000Z
DTSTART;TZID=America/Los_Angeles:20270701T100000
DTEND;TZID=America/Los_Angeles:20270701T170000
X-ALT-DESC;FMTTYPE=TEXT/HTML:Hibulb Cultural Center Free Admission day
CATEGORIES:cultural center free day
URL;VALUE=URI:https://tulaliplushootseed.com/mc-events/hibulb-free-day/?mc_
 id=1870
METHOD:PUBLISH
END:VEVENT
END:VCALENDAR