BEGIN:VCALENDAR
VERSION:2.0
PRODID:spatie/icalendar-generator
DESCRIPTION:Events from Tulalip Lushootseed
X-WR-CALDESC:Events from Tulalip Lushootseed
REFRESH-INTERVAL;VALUE=DURATION:PT1440M
X-PUBLISHED-TTL:PT1440M
BEGIN:VTIMEZONE
TZID:America/Los_Angeles
BEGIN:STANDARD
DTSTART:20261101T020000Z
TZOFFSETFROM:-0700
TZOFFSETTO:-0800
END:STANDARD
BEGIN:DAYLIGHT
DTSTART:20270314T020000Z
TZOFFSETFROM:-0800
TZOFFSETTO:-0700
END:DAYLIGHT
END:VTIMEZONE
BEGIN:VTIMEZONE
TZID:UTC
BEGIN:STANDARD
DTSTART:20250727T142319Z
TZOFFSETFROM:+0000
TZOFFSETTO:+0000
END:STANDARD
END:VTIMEZONE
BEGIN:VEVENT
UID:1732-127
DTSTAMP:20260423T142319Z
SUMMARY:sləxil ʔə ti ʔaciɬtalbixʷčəɬ ʔuɬiq̓ʷtub\, ʔugʷəlalt
 əb-MMIP Day
LOCATION:
ORGANIZER;CN=David:MAILTO:TulalipLushootseed@tulaliptribes-nsn.gov
RRULE:FREQ=YEARLY;BYMONTH=05;BYDAY=05;COUNT=10
DTSTART;TZID=America/Los_Angeles;VALUE=DATE:20270505
DTEND;TZID=America/Los_Angeles;VALUE=DATE:20270506
X-ALT-DESC;FMTTYPE=TEXT/HTML:sləxil ʔə ti ʔaciɬtalbixʷčəɬ ʔuɬiq
 ̓ʷtub\, ʔugʷəlaltəb - Missing and Murdered Indigenous People's Day [
 audio mp3=\"/wp-content/uploads/2022/12/MMIP_Day.mp3\"][/audio]
CATEGORIES:holidays
URL;VALUE=URI:https://tulaliplushootseed.com/mc-events/sl%c9%99xil-%ca%94%c
 9%99-ti-%ca%94aci%c9%actalbix%ca%b7c%c9%99%c9%ac-%ca%94u%c9%aciq%cc%93%ca%
 b7tub-%ca%94ug%ca%b7%c9%99lalt%c9%99b-mmip-day/?mc_id=1732
METHOD:PUBLISH
END:VEVENT
END:VCALENDAR