BEGIN:VCALENDAR
VERSION:2.0
PRODID:spatie/icalendar-generator
DESCRIPTION:Events from Tulalip Lushootseed
X-WR-CALDESC:Events from Tulalip Lushootseed
REFRESH-INTERVAL;VALUE=DURATION:PT1440M
X-PUBLISHED-TTL:PT1440M
BEGIN:VTIMEZONE
TZID:America/Los_Angeles
BEGIN:STANDARD
DTSTART:20261101T020000Z
TZOFFSETFROM:-0700
TZOFFSETTO:-0800
END:STANDARD
BEGIN:DAYLIGHT
DTSTART:20270314T020000Z
TZOFFSETFROM:-0800
TZOFFSETTO:-0700
END:DAYLIGHT
END:VTIMEZONE
BEGIN:VTIMEZONE
TZID:UTC
BEGIN:STANDARD
DTSTART:20250727T205410Z
TZOFFSETFROM:+0000
TZOFFSETTO:+0000
END:STANDARD
END:VTIMEZONE
BEGIN:VEVENT
UID:1692-158
DTSTAMP:20260423T205410Z
SUMMARY:St. Patrick's Day
LOCATION:
ORGANIZER;CN=David:MAILTO:TulalipLushootseed@tulaliptribes-nsn.gov
RRULE:FREQ=YEARLY;BYMONTH=03;BYDAY=17;UNTIL=20300317T000000Z
DTSTART;TZID=America/Los_Angeles;VALUE=DATE:20270317
DTEND;TZID=America/Los_Angeles;VALUE=DATE:20270318
X-ALT-DESC;FMTTYPE=TEXT/HTML:St. Patrick's Day
CATEGORIES:holidays
URL;VALUE=URI:https://tulaliplushootseed.com/mc-events/st-patricks-day-3/?m
 c_id=1692
METHOD:PUBLISH
END:VEVENT
END:VCALENDAR