BEGIN:VCALENDAR
VERSION:2.0
PRODID:spatie/icalendar-generator
DESCRIPTION:Events from Tulalip Lushootseed
X-WR-CALDESC:Events from Tulalip Lushootseed
REFRESH-INTERVAL;VALUE=DURATION:PT1440M
X-PUBLISHED-TTL:PT1440M
BEGIN:VTIMEZONE
TZID:America/Los_Angeles
BEGIN:STANDARD
DTSTART:20261101T020000Z
TZOFFSETFROM:-0700
TZOFFSETTO:-0800
END:STANDARD
BEGIN:DAYLIGHT
DTSTART:20270314T020000Z
TZOFFSETFROM:-0800
TZOFFSETTO:-0700
END:DAYLIGHT
END:VTIMEZONE
BEGIN:VTIMEZONE
TZID:UTC
BEGIN:STANDARD
DTSTART:20250727T194549Z
TZOFFSETFROM:+0000
TZOFFSETTO:+0000
END:STANDARD
END:VTIMEZONE
BEGIN:VEVENT
UID:1664-125
DTSTAMP:20260423T194549Z
SUMMARY:April Fool's Day
LOCATION:
ORGANIZER;CN=David:MAILTO:TulalipLushootseed@tulaliptribes-nsn.gov
RRULE:FREQ=YEARLY;BYMONTH=04;BYDAY=01;UNTIL=20270401T000000Z
DTSTART;TZID=America/Los_Angeles;VALUE=DATE:20270401
DTEND;TZID=America/Los_Angeles;VALUE=DATE:20270402
X-ALT-DESC;FMTTYPE=TEXT/HTML:April Fool's Day
CATEGORIES:holidays
URL;VALUE=URI:https://tulaliplushootseed.com/mc-events/april-fools-day/?mc_
 id=1664
METHOD:PUBLISH
END:VEVENT
END:VCALENDAR